Package: DrugVsDisease Version: 2.42.0 Command: /Library/Frameworks/R.framework/Resources/bin/R CMD build --keep-empty-dirs --no-resave-data DrugVsDisease StartedAt: 2023-10-15 18:05:13 -0400 (Sun, 15 Oct 2023) EndedAt: 2023-10-15 18:06:46 -0400 (Sun, 15 Oct 2023) EllapsedTime: 93.0 seconds RetCode: 0 Status: OK PackageFile: DrugVsDisease_2.42.0.tar.gz PackageFileSize: 1.829 MiB