Package: DrugVsDisease Version: 2.42.0 Command: rm -rf DrugVsDisease.buildbin-libdir && mkdir DrugVsDisease.buildbin-libdir && /Users/biocbuild/BBS/utils/build-universal.sh DrugVsDisease_2.42.0.tar.gz /Library/Frameworks/R.framework/Resources/bin/R DrugVsDisease.buildbin-libdir StartedAt: 2023-10-16 09:19:28 -0400 (Mon, 16 Oct 2023) EndedAt: 2023-10-16 09:21:21 -0400 (Mon, 16 Oct 2023) EllapsedTime: 113.6 seconds RetCode: 0 Status: OK PackageFile: DrugVsDisease_2.42.0.tgz PackageFileSize: 2.731 MiB