Package: DropletUtils Version: 1.20.0 Command: chmod a+r DropletUtils -R && F:\biocbuild\bbs-3.17-bioc\R\bin\R.exe CMD build --keep-empty-dirs --no-resave-data DropletUtils StartedAt: 2023-10-15 18:50:46 -0400 (Sun, 15 Oct 2023) EndedAt: 2023-10-15 18:52:37 -0400 (Sun, 15 Oct 2023) EllapsedTime: 112.0 seconds RetCode: 0 Status: OK PackageFile: DropletUtils_1.20.0.tar.gz PackageFileSize: 390.1 KiB