Package: DropletUtils Version: 1.20.0 Command: /Library/Frameworks/R.framework/Resources/bin/R CMD INSTALL DropletUtils StartedAt: 2023-10-15 15:32:39 -0400 (Sun, 15 Oct 2023) EndedAt: 2023-10-15 15:36:52 -0400 (Sun, 15 Oct 2023) EllapsedTime: 252.9 seconds RetCode: 0 Status: OK