Package: DropletUtils Version: 1.20.0 Command: /Library/Frameworks/R.framework/Resources/bin/R CMD check --install=check:DropletUtils.install-out.txt --library=/Library/Frameworks/R.framework/Resources/library --no-vignettes --timings DropletUtils_1.20.0.tar.gz StartedAt: 2023-10-16 01:11:14 -0400 (Mon, 16 Oct 2023) EndedAt: 2023-10-16 01:27:58 -0400 (Mon, 16 Oct 2023) EllapsedTime: 1004.4 seconds RetCode: 0 Status: WARNINGS CheckDir: DropletUtils.Rcheck Warnings: 1