Package: DropletUtils Version: 1.20.0 Command: rm -rf DropletUtils.buildbin-libdir && mkdir DropletUtils.buildbin-libdir && /Users/biocbuild/BBS/utils/build-universal.sh DropletUtils_1.20.0.tar.gz /Library/Frameworks/R.framework/Resources/bin/R DropletUtils.buildbin-libdir StartedAt: 2023-10-16 09:19:24 -0400 (Mon, 16 Oct 2023) EndedAt: 2023-10-16 09:23:48 -0400 (Mon, 16 Oct 2023) EllapsedTime: 264.0 seconds RetCode: 0 Status: OK PackageFile: DropletUtils_1.20.0.tgz PackageFileSize: 2.277 MiB