Package: DriverNet Version: 1.40.0 Command: /home/biocbuild/bbs-3.17-bioc/R/bin/R CMD build --keep-empty-dirs --no-resave-data DriverNet StartedAt: 2023-10-15 16:39:37 -0400 (Sun, 15 Oct 2023) EndedAt: 2023-10-15 16:40:06 -0400 (Sun, 15 Oct 2023) EllapsedTime: 29.2 seconds RetCode: 0 Status: OK PackageFile: DriverNet_1.40.0.tar.gz PackageFileSize: 1.117 MiB