Package: DiscoRhythm Version: 1.16.0 Command: chmod a+r DiscoRhythm -R && F:\biocbuild\bbs-3.17-bioc\R\bin\R.exe CMD build --keep-empty-dirs --no-resave-data DiscoRhythm StartedAt: 2023-10-15 18:46:52 -0400 (Sun, 15 Oct 2023) EndedAt: 2023-10-15 18:47:38 -0400 (Sun, 15 Oct 2023) EllapsedTime: 46.6 seconds RetCode: 0 Status: OK PackageFile: DiscoRhythm_1.16.0.tar.gz PackageFileSize: 2.521 MiB