Package: DiscoRhythm Version: 1.16.0 Command: rm -rf DiscoRhythm.buildbin-libdir && mkdir DiscoRhythm.buildbin-libdir && F:\biocbuild\bbs-3.17-bioc\R\bin\R.exe CMD INSTALL --build --library=DiscoRhythm.buildbin-libdir DiscoRhythm_1.16.0.tar.gz StartedAt: 2023-10-16 08:42:51 -0400 (Mon, 16 Oct 2023) EndedAt: 2023-10-16 08:43:24 -0400 (Mon, 16 Oct 2023) EllapsedTime: 32.7 seconds RetCode: 0 Status: OK PackageFile: DiscoRhythm_1.16.0.zip PackageFileSize: 1.917 MiB