Package: DirichletMultinomial Version: 1.42.0 Command: F:\biocbuild\bbs-3.17-bioc\R\bin\R.exe CMD INSTALL DirichletMultinomial StartedAt: 2023-10-15 15:53:45 -0400 (Sun, 15 Oct 2023) EndedAt: 2023-10-15 15:54:00 -0400 (Sun, 15 Oct 2023) EllapsedTime: 14.8 seconds RetCode: 0 Status: OK