Package: DirichletMultinomial Version: 1.42.0 Command: rm -rf DirichletMultinomial.buildbin-libdir && mkdir DirichletMultinomial.buildbin-libdir && F:\biocbuild\bbs-3.17-bioc\R\bin\R.exe CMD INSTALL --build --library=DirichletMultinomial.buildbin-libdir DirichletMultinomial_1.42.0.tar.gz StartedAt: 2023-10-16 08:42:48 -0400 (Mon, 16 Oct 2023) EndedAt: 2023-10-16 08:43:04 -0400 (Mon, 16 Oct 2023) EllapsedTime: 15.3 seconds RetCode: 0 Status: OK PackageFile: DirichletMultinomial_1.42.0.zip PackageFileSize: 801.1 KiB