Package: DirichletMultinomial Version: 1.42.0 Command: /Library/Frameworks/R.framework/Resources/bin/R CMD build --keep-empty-dirs --no-resave-data DirichletMultinomial StartedAt: 2023-10-15 18:00:07 -0400 (Sun, 15 Oct 2023) EndedAt: 2023-10-15 18:00:52 -0400 (Sun, 15 Oct 2023) EllapsedTime: 45.6 seconds RetCode: 0 Status: OK PackageFile: DirichletMultinomial_1.42.0.tar.gz PackageFileSize: 429.8 KiB