Package: DirichletMultinomial Version: 1.42.0 Command: rm -rf DirichletMultinomial.buildbin-libdir && mkdir DirichletMultinomial.buildbin-libdir && /Users/biocbuild/BBS/utils/build-universal.sh DirichletMultinomial_1.42.0.tar.gz /Library/Frameworks/R.framework/Resources/bin/R DirichletMultinomial.buildbin-libdir StartedAt: 2023-10-16 09:17:57 -0400 (Mon, 16 Oct 2023) EndedAt: 2023-10-16 09:18:28 -0400 (Mon, 16 Oct 2023) EllapsedTime: 30.5 seconds RetCode: 0 Status: OK PackageFile: DirichletMultinomial_1.42.0.tgz PackageFileSize: 876.6 KiB