Package: Director Version: 1.26.0 Command: F:\biocbuild\bbs-3.17-bioc\R\bin\R.exe CMD INSTALL Director StartedAt: 2023-10-15 16:16:14 -0400 (Sun, 15 Oct 2023) EndedAt: 2023-10-15 16:16:20 -0400 (Sun, 15 Oct 2023) EllapsedTime: 5.6 seconds RetCode: 0 Status: OK