Package: Dino Version: 1.6.0 Command: F:\biocbuild\bbs-3.17-bioc\R\bin\R.exe CMD check --no-multiarch --install=check:Dino.install-out.txt --library=F:\biocbuild\bbs-3.17-bioc\R\library --no-vignettes --timings Dino_1.6.0.tar.gz StartedAt: 2023-10-16 01:34:30 -0400 (Mon, 16 Oct 2023) EndedAt: 2023-10-16 01:43:02 -0400 (Mon, 16 Oct 2023) EllapsedTime: 512.2 seconds RetCode: 0 Status: OK CheckDir: Dino.Rcheck Warnings: 0