Package: Dino Version: 1.6.0 Command: chmod a+r Dino -R && F:\biocbuild\bbs-3.17-bioc\R\bin\R.exe CMD build --keep-empty-dirs --no-resave-data Dino StartedAt: 2023-10-15 18:46:23 -0400 (Sun, 15 Oct 2023) EndedAt: 2023-10-15 18:49:08 -0400 (Sun, 15 Oct 2023) EllapsedTime: 165.1 seconds RetCode: 0 Status: OK PackageFile: Dino_1.6.0.tar.gz PackageFileSize: 913.5 KiB