Package: Dino Version: 1.6.0 Command: /home/biocbuild/bbs-3.17-bioc/R/bin/R CMD check --install=check:Dino.install-out.txt --library=/home/biocbuild/bbs-3.17-bioc/R/site-library --timings Dino_1.6.0.tar.gz StartedAt: 2023-10-15 20:51:12 -0400 (Sun, 15 Oct 2023) EndedAt: 2023-10-15 20:57:53 -0400 (Sun, 15 Oct 2023) EllapsedTime: 401.2 seconds RetCode: 0 Status: OK CheckDir: Dino.Rcheck Warnings: 0