Package: Dino Version: 1.6.0 Command: /home/biocbuild/bbs-3.17-bioc/R/bin/R CMD build --keep-empty-dirs --no-resave-data Dino StartedAt: 2023-10-15 16:37:09 -0400 (Sun, 15 Oct 2023) EndedAt: 2023-10-15 16:38:52 -0400 (Sun, 15 Oct 2023) EllapsedTime: 102.6 seconds RetCode: 0 Status: OK PackageFile: Dino_1.6.0.tar.gz PackageFileSize: 1.392 MiB