Package: Dino Version: 1.6.0 Command: /Library/Frameworks/R.framework/Resources/bin/R CMD INSTALL Dino StartedAt: 2023-10-15 16:20:51 -0400 (Sun, 15 Oct 2023) EndedAt: 2023-10-15 16:22:52 -0400 (Sun, 15 Oct 2023) EllapsedTime: 121.1 seconds RetCode: 0 Status: OK