Package: Dino Version: 1.6.0 Command: rm -rf Dino.buildbin-libdir && mkdir Dino.buildbin-libdir && /Users/biocbuild/BBS/utils/build-universal.sh Dino_1.6.0.tar.gz /Library/Frameworks/R.framework/Resources/bin/R Dino.buildbin-libdir StartedAt: 2023-10-16 09:17:55 -0400 (Mon, 16 Oct 2023) EndedAt: 2023-10-16 09:20:02 -0400 (Mon, 16 Oct 2023) EllapsedTime: 127.3 seconds RetCode: 0 Status: OK PackageFile: Dino_1.6.0.tgz PackageFileSize: 1.44 MiB