Package: DiffLogo Version: 2.24.0 Command: F:\biocbuild\bbs-3.17-bioc\R\bin\R.exe CMD INSTALL DiffLogo StartedAt: 2023-10-15 15:52:42 -0400 (Sun, 15 Oct 2023) EndedAt: 2023-10-15 15:52:51 -0400 (Sun, 15 Oct 2023) EllapsedTime: 9.0 seconds RetCode: 0 Status: OK