Package: DiffLogo Version: 2.24.0 Command: F:\biocbuild\bbs-3.17-bioc\R\bin\R.exe CMD check --no-multiarch --install=check:DiffLogo.install-out.txt --library=F:\biocbuild\bbs-3.17-bioc\R\library --no-vignettes --timings DiffLogo_2.24.0.tar.gz StartedAt: 2023-10-16 01:33:50 -0400 (Mon, 16 Oct 2023) EndedAt: 2023-10-16 01:34:28 -0400 (Mon, 16 Oct 2023) EllapsedTime: 38.0 seconds RetCode: 0 Status: WARNINGS CheckDir: DiffLogo.Rcheck Warnings: 1