Package: DiffLogo Version: 2.24.0 Command: /home/biocbuild/bbs-3.17-bioc/R/bin/R CMD build --keep-empty-dirs --no-resave-data DiffLogo StartedAt: 2023-10-15 16:36:29 -0400 (Sun, 15 Oct 2023) EndedAt: 2023-10-15 16:37:10 -0400 (Sun, 15 Oct 2023) EllapsedTime: 41.6 seconds RetCode: 0 Status: OK PackageFile: DiffLogo_2.24.0.tar.gz PackageFileSize: 815.4 KiB