Package: DiffLogo Version: 2.24.0 Command: /Library/Frameworks/R.framework/Resources/bin/R CMD INSTALL DiffLogo StartedAt: 2023-10-15 15:08:15 -0400 (Sun, 15 Oct 2023) EndedAt: 2023-10-15 15:08:50 -0400 (Sun, 15 Oct 2023) EllapsedTime: 34.2 seconds RetCode: 0 Status: OK