git_url: https://git.bioconductor.org/packages/DiffLogo git_branch: RELEASE_3_17 git_last_commit: 6fd4add git_last_commit_date: 2023-04-25 10:41:29 -0400 (Tue, 25 Apr 2023) Package: DiffLogo Version: 2.24.0 Maintainer: Hendrik Treutler MaintainerEmail: hendrik.treutler at gmail.com