Package: DiffBind Version: 3.10.1 Command: F:\biocbuild\bbs-3.17-bioc\R\bin\R.exe CMD check --no-multiarch --install=check:DiffBind.install-out.txt --library=F:\biocbuild\bbs-3.17-bioc\R\library --no-vignettes --timings DiffBind_3.10.1.tar.gz StartedAt: 2023-10-16 01:31:50 -0400 (Mon, 16 Oct 2023) EndedAt: 2023-10-16 01:41:34 -0400 (Mon, 16 Oct 2023) EllapsedTime: 583.9 seconds RetCode: 0 Status: OK CheckDir: DiffBind.Rcheck Warnings: 0