Package: DiffBind Version: 3.10.1 Command: rm -rf DiffBind.buildbin-libdir && mkdir DiffBind.buildbin-libdir && F:\biocbuild\bbs-3.17-bioc\R\bin\R.exe CMD INSTALL --build --library=DiffBind.buildbin-libdir DiffBind_3.10.1.tar.gz StartedAt: 2023-10-16 08:42:10 -0400 (Mon, 16 Oct 2023) EndedAt: 2023-10-16 08:44:02 -0400 (Mon, 16 Oct 2023) EllapsedTime: 112.4 seconds RetCode: 0 Status: OK PackageFile: DiffBind_3.10.1.zip PackageFileSize: 10.91 MiB