Package: DiffBind Version: 3.10.1 Command: /home/biocbuild/bbs-3.17-bioc/R/bin/R CMD INSTALL DiffBind StartedAt: 2023-10-15 15:27:50 -0400 (Sun, 15 Oct 2023) EndedAt: 2023-10-15 15:29:04 -0400 (Sun, 15 Oct 2023) EllapsedTime: 73.9 seconds RetCode: 0 Status: OK