Package: DiffBind Version: 3.10.1 Command: /Library/Frameworks/R.framework/Resources/bin/R CMD INSTALL DiffBind StartedAt: 2023-10-15 15:46:47 -0400 (Sun, 15 Oct 2023) EndedAt: 2023-10-15 15:51:02 -0400 (Sun, 15 Oct 2023) EllapsedTime: 255.1 seconds RetCode: 0 Status: OK