Package: DepecheR Version: 1.16.0 Command: F:\biocbuild\bbs-3.17-bioc\R\bin\R.exe CMD check --no-multiarch --install=check:DepecheR.install-out.txt --library=F:\biocbuild\bbs-3.17-bioc\R\library --no-vignettes --timings DepecheR_1.16.0.tar.gz StartedAt: 2023-10-16 01:25:11 -0400 (Mon, 16 Oct 2023) EndedAt: 2023-10-16 01:27:50 -0400 (Mon, 16 Oct 2023) EllapsedTime: 158.5 seconds RetCode: 0 Status: OK CheckDir: DepecheR.Rcheck Warnings: 0