Package: DepecheR Version: 1.16.0 Command: /Library/Frameworks/R.framework/Resources/bin/R CMD INSTALL DepecheR StartedAt: 2023-10-15 15:22:32 -0400 (Sun, 15 Oct 2023) EndedAt: 2023-10-15 15:24:20 -0400 (Sun, 15 Oct 2023) EllapsedTime: 107.8 seconds RetCode: 0 Status: OK