Package: DepInfeR Version: 1.4.0 Command: /home/biocbuild/bbs-3.17-bioc/R/bin/R CMD INSTALL DepInfeR StartedAt: 2023-10-15 15:33:53 -0400 (Sun, 15 Oct 2023) EndedAt: 2023-10-15 15:33:59 -0400 (Sun, 15 Oct 2023) EllapsedTime: 6.4 seconds RetCode: 0 Status: OK