Package: DepInfeR Version: 1.4.0 Command: /home/biocbuild/bbs-3.17-bioc/R/bin/R CMD check --install=check:DepInfeR.install-out.txt --library=/home/biocbuild/bbs-3.17-bioc/R/site-library --timings DepInfeR_1.4.0.tar.gz StartedAt: 2023-10-15 20:45:11 -0400 (Sun, 15 Oct 2023) EndedAt: 2023-10-15 20:47:34 -0400 (Sun, 15 Oct 2023) EllapsedTime: 143.4 seconds RetCode: 0 Status: OK CheckDir: DepInfeR.Rcheck Warnings: 0