Package: DepInfeR Version: 1.4.0 Command: /Library/Frameworks/R.framework/Resources/bin/R CMD INSTALL DepInfeR StartedAt: 2023-10-15 15:58:41 -0400 (Sun, 15 Oct 2023) EndedAt: 2023-10-15 15:59:01 -0400 (Sun, 15 Oct 2023) EllapsedTime: 19.3 seconds RetCode: 0 Status: OK