Package: DepInfeR Version: 1.4.0 Command: /Library/Frameworks/R.framework/Resources/bin/R CMD build --keep-empty-dirs --no-resave-data DepInfeR StartedAt: 2023-10-15 17:53:54 -0400 (Sun, 15 Oct 2023) EndedAt: 2023-10-15 17:56:08 -0400 (Sun, 15 Oct 2023) EllapsedTime: 134.7 seconds RetCode: 0 Status: OK PackageFile: DepInfeR_1.4.0.tar.gz PackageFileSize: 2.254 MiB