Package: DepInfeR Version: 1.4.0 Command: rm -rf DepInfeR.buildbin-libdir && mkdir DepInfeR.buildbin-libdir && /Users/biocbuild/BBS/utils/build-universal.sh DepInfeR_1.4.0.tar.gz /Library/Frameworks/R.framework/Resources/bin/R DepInfeR.buildbin-libdir StartedAt: 2023-10-16 09:16:38 -0400 (Mon, 16 Oct 2023) EndedAt: 2023-10-16 09:16:59 -0400 (Mon, 16 Oct 2023) EllapsedTime: 21.0 seconds RetCode: 0 Status: OK PackageFile: DepInfeR_1.4.0.tgz PackageFileSize: 2.273 MiB