git_url: https://git.bioconductor.org/packages/DepInfeR git_branch: RELEASE_3_17 git_last_commit: 3892abf git_last_commit_date: 2023-04-25 11:37:08 -0400 (Tue, 25 Apr 2023) Package: DepInfeR Version: 1.4.0 Maintainer: Junyan Lu MaintainerEmail: jylu1118 at gmail.com