Package: DelayedTensor Version: 1.6.0 Command: F:\biocbuild\bbs-3.17-bioc\R\bin\R.exe CMD INSTALL DelayedTensor StartedAt: 2023-10-15 16:50:56 -0400 (Sun, 15 Oct 2023) EndedAt: 2023-10-15 16:51:31 -0400 (Sun, 15 Oct 2023) EllapsedTime: 35.7 seconds RetCode: 0 Status: OK