Package: DelayedTensor Version: 1.6.0 Command: /home/biocbuild/bbs-3.17-bioc/R/bin/R CMD build --keep-empty-dirs --no-resave-data DelayedTensor StartedAt: 2023-10-15 16:33:10 -0400 (Sun, 15 Oct 2023) EndedAt: 2023-10-15 16:36:08 -0400 (Sun, 15 Oct 2023) EllapsedTime: 178.2 seconds RetCode: 0 Status: OK PackageFile: DelayedTensor_1.6.0.tar.gz PackageFileSize: 4.128 MiB