Package: DelayedTensor Version: 1.6.0 Command: /Library/Frameworks/R.framework/Resources/bin/R CMD check --install=check:DelayedTensor.install-out.txt --library=/Library/Frameworks/R.framework/Resources/library --no-vignettes --timings DelayedTensor_1.6.0.tar.gz StartedAt: 2023-10-16 00:46:37 -0400 (Mon, 16 Oct 2023) EndedAt: 2023-10-16 01:01:09 -0400 (Mon, 16 Oct 2023) EllapsedTime: 871.2 seconds RetCode: 0 Status: WARNINGS CheckDir: DelayedTensor.Rcheck Warnings: 1