Package: DelayedTensor Version: 1.6.0 Command: rm -rf DelayedTensor.buildbin-libdir && mkdir DelayedTensor.buildbin-libdir && /Users/biocbuild/BBS/utils/build-universal.sh DelayedTensor_1.6.0.tar.gz /Library/Frameworks/R.framework/Resources/bin/R DelayedTensor.buildbin-libdir StartedAt: 2023-10-16 09:16:03 -0400 (Mon, 16 Oct 2023) EndedAt: 2023-10-16 09:17:30 -0400 (Mon, 16 Oct 2023) EllapsedTime: 86.5 seconds RetCode: 0 Status: OK PackageFile: DelayedTensor_1.6.0.tgz PackageFileSize: 3.088 MiB