Package: DelayedRandomArray Version: 1.8.0 Command: /Library/Frameworks/R.framework/Resources/bin/R CMD build --keep-empty-dirs --no-resave-data DelayedRandomArray StartedAt: 2023-10-15 17:52:06 -0400 (Sun, 15 Oct 2023) EndedAt: 2023-10-15 17:53:58 -0400 (Sun, 15 Oct 2023) EllapsedTime: 112.0 seconds RetCode: 0 Status: OK PackageFile: DelayedRandomArray_1.8.0.tar.gz PackageFileSize: 318.2 KiB