Package: DelayedMatrixStats Version: 1.22.6 Command: F:\biocbuild\bbs-3.17-bioc\R\bin\R.exe CMD check --no-multiarch --install=check:DelayedMatrixStats.install-out.txt --library=F:\biocbuild\bbs-3.17-bioc\R\library --no-vignettes --timings DelayedMatrixStats_1.22.6.tar.gz StartedAt: 2023-10-16 01:20:50 -0400 (Mon, 16 Oct 2023) EndedAt: 2023-10-16 01:25:13 -0400 (Mon, 16 Oct 2023) EllapsedTime: 263.6 seconds RetCode: 0 Status: WARNINGS CheckDir: DelayedMatrixStats.Rcheck Warnings: 1