Package: DelayedMatrixStats Version: 1.22.6 Command: rm -rf DelayedMatrixStats.buildbin-libdir && mkdir DelayedMatrixStats.buildbin-libdir && F:\biocbuild\bbs-3.17-bioc\R\bin\R.exe CMD INSTALL --build --library=DelayedMatrixStats.buildbin-libdir DelayedMatrixStats_1.22.6.tar.gz StartedAt: 2023-10-16 08:41:03 -0400 (Mon, 16 Oct 2023) EndedAt: 2023-10-16 08:41:35 -0400 (Mon, 16 Oct 2023) EllapsedTime: 31.8 seconds RetCode: 0 Status: OK PackageFile: DelayedMatrixStats_1.22.6.zip PackageFileSize: 707.7 KiB