Package: DelayedMatrixStats Version: 1.22.6 Command: /home/biocbuild/bbs-3.17-bioc/R/bin/R CMD INSTALL DelayedMatrixStats StartedAt: 2023-10-15 15:12:15 -0400 (Sun, 15 Oct 2023) EndedAt: 2023-10-15 15:12:33 -0400 (Sun, 15 Oct 2023) EllapsedTime: 18.1 seconds RetCode: 0 Status: OK