Package: DelayedMatrixStats Version: 1.22.6 Command: /home/biocbuild/bbs-3.17-bioc/R/bin/R CMD check --install=check:DelayedMatrixStats.install-out.txt --library=/home/biocbuild/bbs-3.17-bioc/R/site-library --timings DelayedMatrixStats_1.22.6.tar.gz StartedAt: 2023-10-15 20:42:07 -0400 (Sun, 15 Oct 2023) EndedAt: 2023-10-15 20:49:40 -0400 (Sun, 15 Oct 2023) EllapsedTime: 453.0 seconds RetCode: 0 Status: WARNINGS CheckDir: DelayedMatrixStats.Rcheck Warnings: 1