Package: DelayedMatrixStats Version: 1.22.6 Command: /home/biocbuild/bbs-3.17-bioc/R/bin/R CMD build --keep-empty-dirs --no-resave-data DelayedMatrixStats StartedAt: 2023-10-15 16:33:04 -0400 (Sun, 15 Oct 2023) EndedAt: 2023-10-15 16:36:27 -0400 (Sun, 15 Oct 2023) EllapsedTime: 203.7 seconds RetCode: 0 Status: OK PackageFile: DelayedMatrixStats_1.22.6.tar.gz PackageFileSize: 271.2 KiB