Package: DelayedMatrixStats Version: 1.22.6 Command: /Library/Frameworks/R.framework/Resources/bin/R CMD INSTALL DelayedMatrixStats StartedAt: 2023-10-15 15:18:45 -0400 (Sun, 15 Oct 2023) EndedAt: 2023-10-15 15:19:39 -0400 (Sun, 15 Oct 2023) EllapsedTime: 54.3 seconds RetCode: 0 Status: OK