Package: DelayedMatrixStats Version: 1.22.6 Command: /Library/Frameworks/R.framework/Resources/bin/R CMD check --install=check:DelayedMatrixStats.install-out.txt --library=/Library/Frameworks/R.framework/Resources/library --no-vignettes --timings DelayedMatrixStats_1.22.6.tar.gz StartedAt: 2023-10-16 00:45:44 -0400 (Mon, 16 Oct 2023) EndedAt: 2023-10-16 00:58:45 -0400 (Mon, 16 Oct 2023) EllapsedTime: 780.9 seconds RetCode: 0 Status: WARNINGS CheckDir: DelayedMatrixStats.Rcheck Warnings: 1