Package: DelayedMatrixStats Version: 1.22.6 Command: /Library/Frameworks/R.framework/Resources/bin/R CMD build --keep-empty-dirs --no-resave-data DelayedMatrixStats StartedAt: 2023-10-15 17:51:52 -0400 (Sun, 15 Oct 2023) EndedAt: 2023-10-15 18:00:20 -0400 (Sun, 15 Oct 2023) EllapsedTime: 508.0 seconds RetCode: 0 Status: OK PackageFile: DelayedMatrixStats_1.22.6.tar.gz PackageFileSize: 271.1 KiB